BEGIN:VCALENDAR
VERSION:2.0
PRODID:-//Casa Caderno - ECPv6.15.14//NONSGML v1.0//EN
CALSCALE:GREGORIAN
METHOD:PUBLISH
X-ORIGINAL-URL:https://casacaderno.com.br
X-WR-CALDESC:Eventos para Casa Caderno
REFRESH-INTERVAL;VALUE=DURATION:PT1H
X-Robots-Tag:noindex
X-PUBLISHED-TTL:PT1H
BEGIN:VTIMEZONE
TZID:America/Sao_Paulo
BEGIN:STANDARD
TZOFFSETFROM:-0300
TZOFFSETTO:-0300
TZNAME:-03
DTSTART:20230101T000000
END:STANDARD
END:VTIMEZONE
BEGIN:VEVENT
DTSTART;TZID=America/Sao_Paulo:20250301T140000
DTEND;TZID=America/Sao_Paulo:20250301T190000
DTSTAMP:20260423T194229
CREATED:20240201T202112Z
LAST-MODIFIED:20250215T225456Z
UID:16895-1740837600-1740855600@casacaderno.com.br
SUMMARY:Oficina de Encadernação Manual Corrupiola
DESCRIPTION:A Corrupiola oferece oficinas de encadernação manual para iniciantes\, intermediários e quem quer melhorar as suas técnicas. As oficinas são adequadas para quem quer fazer os seus próprios cadernos\, álbuns\, portfólios\, livros de artista ou publicações literárias. \nColocamos em prática 3 técnicas de encadernação e algumas de suas variações\, além de compartilhar dicas de produção\, resolução de problemas\, uso de materiais e um pouco da nossa experiência de 15 anos neste rico universo de trabalhos manuais. \nInscreva-se
URL:https://casacaderno.com.br/evento/oficina-de-encadernacao-corrupiola/
LOCATION:Casa Caderno\, Servidão Tronco Forte\, 22\, Florianópolis\, SC\, 88065398\, Brasil
CATEGORIES:Oficinas
ATTACH;FMTTYPE=image/jpeg:https://casacaderno.com.br/wp-content/uploads/2024/07/oficina-encadernacao-25-scaled.jpg
ORGANIZER;CN="Aleph Ozuas":MAILTO:corrupiola@gmail.com
END:VEVENT
BEGIN:VEVENT
DTSTART;TZID=America/Sao_Paulo:20240824T100000
DTEND;TZID=America/Sao_Paulo:20240824T180000
DTSTAMP:20260423T194229
CREATED:20240329T213007Z
LAST-MODIFIED:20240728T124707Z
UID:18219-1724493600-1724522400@casacaderno.com.br
SUMMARY:Caderno Junk Journal
DESCRIPTION:Crie um caderno no estilo Junk Journal de experimentações gráficas\, através de 3 encontros virtuais com uma turma. Junk Journal é um caderno artesanal feito com diversos tipos de papéis\, como páginas de revistas\, livros\, mapas e muito mais. \nInscreva-se
URL:https://casacaderno.com.br/evento/caderno-junk-journal/
LOCATION:Casa Caderno\, Servidão Tronco Forte\, 22\, Florianópolis\, SC\, 88065398\, Brasil
CATEGORIES:Oficinas
ATTACH;FMTTYPE=image/jpeg:https://casacaderno.com.br/wp-content/uploads/2022/10/thumb-site-curso-caderno-criativo.jpg
END:VEVENT
BEGIN:VEVENT
DTSTART;TZID=America/Sao_Paulo:20240810T140000
DTEND;TZID=America/Sao_Paulo:20240810T190000
DTSTAMP:20260423T194229
CREATED:20240329T211723Z
LAST-MODIFIED:20240701T201043Z
UID:18214-1723298400-1723316400@casacaderno.com.br
SUMMARY:Colagem Fantástica
DESCRIPTION:Faça uma colagem aqui na Casa Caderno com um pequeno grupo de pessoas.\nCrie um mundo fantástico através da colagem com as técnicas compartilhadas por Pati Peccin usando seu acervo de livros de recortes. \nAlém de entrar na comunidade Colageria e conhecer outros colagistas que trocarão suas experiências com a tesoura. \nInscreva-se
URL:https://casacaderno.com.br/evento/colagem-fantastica-13-04-24/
LOCATION:Casa Caderno\, Servidão Tronco Forte\, 22\, Florianópolis\, SC\, 88065398\, Brasil
ATTACH;FMTTYPE=image/png:https://casacaderno.com.br/wp-content/uploads/2022/10/colagem-pati-peccin4.png
ORGANIZER;CN="Pati Peccin":MAILTO:patipeccin.arte@gmail.com
END:VEVENT
BEGIN:VEVENT
DTSTART;TZID=America/Sao_Paulo:20240720T150000
DTEND;TZID=America/Sao_Paulo:20240720T193000
DTSTAMP:20260423T194229
CREATED:20240701T202318Z
LAST-MODIFIED:20240705T170353Z
UID:18803-1721487600-1721503800@casacaderno.com.br
SUMMARY:Colageria
DESCRIPTION:Colageria é um encontro para os entusiastas da colagem\, à fim de trocar ideias\, recortes e revistas. \nO encontro será aberto ao público\, com no máximo 10 participantes\, inscritos antecipadamente.  Caso as vagas estejam esgotadas\, favor mandar um e-mail para contato@casacaderno.com.br. Caso houver alguma desistência\, será convidado. \nTraga seu material! Contribuições para nosso coffee-break serão bem-vindas.
URL:https://casacaderno.com.br/evento/colageria/
LOCATION:Casa Caderno\, Servidão Tronco Forte\, 22\, Florianópolis\, SC\, 88065398\, Brasil
CATEGORIES:Encontros
ATTACH;FMTTYPE=image/jpeg:https://casacaderno.com.br/wp-content/uploads/2024/05/dmc-casa-caderno-9-scaled.jpg
ORGANIZER;CN="Pati Peccin":MAILTO:patipeccin.arte@gmail.com
END:VEVENT
BEGIN:VEVENT
DTSTART;TZID=America/Sao_Paulo:20240511T150000
DTEND;TZID=America/Sao_Paulo:20240511T190000
DTSTAMP:20260423T194229
CREATED:20240311T142253Z
LAST-MODIFIED:20240511T115059Z
UID:18161-1715439600-1715454000@casacaderno.com.br
SUMMARY:Dia Mundial da Colagem
DESCRIPTION:SOCIEDADE BRASILEIRA DE COLAGEM E O DIA MUNDIAL DA COLAGEM 2024 \nSBC WORLD COLLAGE DAY 2024 \nO Dia Mundial da Colagem é um evento internacional e anual que celebra a arte da colagem. Realizado sempre no segundo sábado de maio\, foi idealizado pela Kolaj Magazine em 2018 e rapidamente o convite lançado por eles foi aceito por artistas\, coletivos de colagem e espaços de arte em todo o mundo. E a Sociedade Brasileira de Colagem não ficou de fora. Desde 2019 a SBC promove o Dia Mundial da Colagem de diversas maneiras\, com encontros presenciais e/ou virtuais. O importante é que esse dia nos conecte com o propósito de sua criação\, como escreve um de seus criadores\, Ric Kasini Kadour\, editor da Kolaj Magazine: “Criamos o Dia Mundial da Colagem porque queríamos homenagear esta comunidade de artistas e lembrar ao mundo como pode ser um espírito de cooperação\, apoio mútuo e criatividade.” \nNosso país é imenso e diverso\, e assim também sua arte e artistas. Nada melhor para a Sociedade Brasileira de Colagem do que poder conhecer e estar junto de todos aqueles que amam a colagem\, profissionais ou não. \nEntão\, este ano planejamos o Dia Mundial da Colagem com “Embaixadores/ras SBC”. Convidamos diversos artistas de cidades diferentes para promoverem o Dia Mundial da Colagem 2024 SBC nas suas respectivas cidades. E teremos 13 encontros pelo país neste dia. \nE escolhemos um tema muito importante para pautar nossas dinâmicas durante os encontros: as mudanças climáticas. Um tema relevante e com impacto na vida de todos nós. Acreditamos que a arte pode ser uma das estratégias para fomentar maior conscientização e reflexão sobre esta questão premente para a vida do planeta e dos seres humanos. E\, em especial\, a arte da colagem\, com seu potencial de sustentabilidade e reciclagem. \nUma grande celebração no dia 11 de maio de 2024 com toda essa galera que é a razão de ser e a grande motivação para seguirmos com a Sociedade Brasileira de Colagem.\nCola junto aqui! \nO que: Dia Mundial da Colagem SBC 2024\nQuando: 11 de maio \nCidades/Embaixadores: \n1. Rio de Janeiro – SBC\n2. São Paulo – SBC\n3. Belo Horizonte – Samuel Eller\n4. Florianópolis – Pati Peccin\n5. Brasília – Coletivo Iló/Coletivo deCollage\n6. Salvador – Juliana Pina\n7. Fortaleza – Chico Gomes\n8. Recife – Camila Constância\n9. Natal – Tieme Estela\n10. Paraty – RJ – Lauro Monteiro\n11. Joanópolis – SP – Silvio Alvarez\n12. Santo André – SP – Marcia Rosenberger\n13.Maceió – Beatriz Pimentel
URL:https://casacaderno.com.br/evento/dia-mundial-da-colagem/
LOCATION:Casa Caderno\, Servidão Tronco Forte\, 22\, Florianópolis\, SC\, 88065398\, Brasil
CATEGORIES:Encontros
ATTACH;FMTTYPE=image/jpeg:https://casacaderno.com.br/wp-content/uploads/2024/03/DMC-1.jpg
ORGANIZER;CN="Pati Peccin":MAILTO:patipeccin.arte@gmail.com
END:VEVENT
END:VCALENDAR